BEGIN:VCALENDAR
VERSION:2.0
PRODID:-//eventon.com NONSGML v1.0//EN
BEGIN:VEVENT
UID:69eb502e80829
DTSTAMP:20260424T111246
DTSTART:20180401T000000Z
DTEND:20180401T235000Z
TZID:UTC
LOCATION:Βιβλιοπωλείο ΙΑΝΟΣ Σταδίου 24\,  105 64 Athens\,  Greece
SUMMARY:2ο Φεστιβάλ Παιδικού βιβλίου
DESCRIPTION: Με αφορμή την Παγκόσμια Ημέρα Παιδικού Βιβλίου και σε συνεργασία με 13 εκδοτικούς οίκους διοργανώνει το 2ο Φεστιβάλ Παιδικού Βιβλίου κατά τη διάρκεια του τα παιδιά θα έρθουν σε επαφή με το βιβλίο\,  με τους δημιουργούς του αλλά και με τους εκδοτικούς οίκους. Θα ζήσουν την μαγεία που κρύβεται πίσω[..]\nhttps://blog.aliceonboard.gr/?post_type=ajde_events&p=19376
URL:https://blog.aliceonboard.gr/?post_type=ajde_events&p=19376
END:VEVENT
END:VCALENDAR