BEGIN:VCALENDAR
VERSION:2.0
PRODID:-//eventon.com NONSGML v1.0//EN
BEGIN:VEVENT
UID:69eb76e2d796b
DTSTAMP:20260424T135754
DTSTART:20180311T113000Z
DTEND:20180311T095700Z
TZID:UTC
LOCATION:
SUMMARY:Jazz for kids
DESCRIPTION: Jazz for kids\,  Θέατρο Αλκυονίς Παιδιά 4+ Παιδική Θεατρική Παράσταση για την καινοτομία\,  τη δημιουργικότητα και την πολυπολιτισμικότητα μέσα από τη Μουσική\,  το Χορό και τη Ζωγραφική. Πάνω στη σκηνή ένα Πιάνο\,  ένα Κοντραμπάσο\,  ένα Σαξόφωνο και Κρουστά. Τέσσερις καταξιωμένοι μουσικοί με μαέστρο τον Αλέξανδρο Χρηστίδη\,  τετραμελές μπαλέτο με χορογράφο[..]\nhttps://blog.aliceonboard.gr/?post_type=ajde_events&p=19210
URL:https://blog.aliceonboard.gr/?post_type=ajde_events&p=19210
END:VEVENT
END:VCALENDAR