BEGIN:VCALENDAR
VERSION:2.0
PRODID:-//eventon.com NONSGML v1.0//EN
BEGIN:VEVENT
UID:69eb76e6c40c0
DTSTAMP:20260424T135758
DTSTART:20180310T100000Z
DTEND:20180310T235000Z
TZID:UTC
LOCATION:Κέντρο της Γης Λ. Δημοκρατίας 67\,  Ίλιον
SUMMARY:Γύρη γύρη όλοι
DESCRIPTION: Ποιος κρέμασε τα λεμόνια στο δέντρο; Ποιος κάνει τα λουλούδια τα ανθίζουν; Είναι οι μέλισσες φίλες μας ή θέλουν να μας τσιμπήσουν; Πώς θα ήταν η ζωή μας χωρίς τις μέλισσες; Αλήθεια… είναι μαύρες με κίτρινες ρίγες ή κίτρινες με μαύρες ρίγες; Χορεύοντας\,  τραγουδώντας\,  παίζοντας θέατρο\,  ζωγραφίζοντας και δημιουργώντας ντοκιμαντέρ έμπειροι[..]\nhttps://blog.aliceonboard.gr/?post_type=ajde_events&p=19002
URL:https://blog.aliceonboard.gr/?post_type=ajde_events&p=19002
END:VEVENT
END:VCALENDAR