BEGIN:VCALENDAR
VERSION:2.0
PRODID:-//eventon.com NONSGML v1.0//EN
BEGIN:VEVENT
UID:69eb773964246
DTSTAMP:20260424T135921
DTSTART:20180225T180000Z
DTEND:20180225T235000Z
TZID:UTC
LOCATION:Gazarte Βουτάδων 34\,  Αθήνα 118 54
SUMMARY:Ο Διονύσης Σαββόπουλος αφηγείται τον «Σιδερόγιαννο» στο Gazarte
DESCRIPTION: Ο Διονύσης Σαββόπουλος απολαμβάνει να διηγείται ιστορίες. Άλλοτε μέσα από τα τραγούδια του άλλοτε λίγο πριν ή μετά από αυτά βρίσκει την ευκαιρία να μοιραστεί τα βιώματά του\,  τις σκέψεις του. Αυτή τη φορά\,  έρχεται σαν ένας άλλος παραμυθάς\,  στο Main Stage του gazarte\,  για να μας αφηγηθεί την ιστορία του Σιδερόγιαννου (The Iron John)\,  το συναρπαστικό[..]\nhttps://blog.aliceonboard.gr/?post_type=ajde_events&p=18995
URL:https://blog.aliceonboard.gr/?post_type=ajde_events&p=18995
END:VEVENT
END:VCALENDAR