BEGIN:VCALENDAR
VERSION:2.0
PRODID:-//eventon.com NONSGML v1.0//EN
BEGIN:VEVENT
UID:69eb37b42cd40
DTSTAMP:20260424T092820
DTSTART:20171008T110000Z
DTEND:20171008T235000Z
TZID:UTC
LOCATION:Εθνικό Θέατρο Αγίου Κωνσταντίνου 22-24 104 37\,  Αθήνα 
SUMMARY:H «Μόμο» του Μίχαελ Έντε στο Μικρό Εθνικό
DESCRIPTION: Ένας ύμνος στην αλήθεια\,  στην αγάπη και στη φιλία που ζωντανεύει σε μια μουσικοθεατρική παράσταση\,  γεμάτη χιούμορ\,  χορό και σασπένς μέχρι την τελευταία στιγμή\,  μεταφέρεται για πρώτη φορά στην Παιδική Σκηνή του Εθνικού Θεάτρου. Τι είναι ο χρόνος; Πώς γίνεται\,  ενώ περπατάς αργά\,  να πηγαίνεις πολύ γρήγορα; Γίνεται να κλέψεις τον[..]\nhttps://blog.aliceonboard.gr/?post_type=ajde_events&p=17493
URL:https://blog.aliceonboard.gr/?post_type=ajde_events&p=17493
END:VEVENT
END:VCALENDAR