BEGIN:VCALENDAR
VERSION:2.0
PRODID:-//eventon.com NONSGML v1.0//EN
BEGIN:VEVENT
UID:69e91d88ecd34
DTSTAMP:20260422T191208
DTSTART:20171001
DTEND:20171001
TZID:UTC
LOCATION:Κέντρο Πολιτισμού Ίδρυμα Σταύρος Νιάρχος Λεωφόρος Ανδρέα Συγγρού 364\,  Καλλιθέα \,  176 74
SUMMARY:Πικ νικ με τον Paul Klee και την παρέα του
DESCRIPTION: Τις Κυριακές του Οκτωβρίου\,  μικροί και μεγάλοι κάνουν ένα χρωματιστό πικ νικ με τον Paul Klee και την παρέα του στο Ξέφωτο του Πάρκου Σταύρος Νιάρχος! Αντί για φρούτα και λαχανικά γεμίζουμε το καλάθι μας με χρωματιστά χαρτιά\,  μαρκαδόρους\,  ψαλίδια\,  χαρτοταινίες και πολλά άλλα υλικά. Το παιχνίδι θα ξεκινήσει όταν[..]\nhttps://blog.aliceonboard.gr/?post_type=ajde_events&p=17487
URL:https://blog.aliceonboard.gr/?post_type=ajde_events&p=17487
END:VEVENT
END:VCALENDAR