BEGIN:VCALENDAR
VERSION:2.0
PRODID:-//eventon.com NONSGML v1.0//EN
BEGIN:VEVENT
UID:69eb32df1c791
DTSTAMP:20260424T090743
DTSTART:20171001T103000Z
DTEND:20171001T020000Z
TZID:UTC
LOCATION:
SUMMARY:Μαγική Χημεία
DESCRIPTION: Μαγική Χημεία (6-11 ετών) Την Κυριακή 1 Οκτωβρίου 2017 το Μουσείο Πειραμάτων υποδέχεται τους φίλους του από 6-11 ετών σε ένα από τα πιο αγαπημένα του προγράμματα\,  τη Μαγική Χημεία! Νέα πειράματα\,  αντιδράσεις και διαλύματα περιμένουν τους μικρούς επιστήμονες σε ένα αληθινό εργαστήριο χημείας\,  ειδικά σχεδιασμένο για αυτούς! Ποιος μικρός[..]\nhttps://blog.aliceonboard.gr/?post_type=ajde_events&p=17456
URL:https://blog.aliceonboard.gr/?post_type=ajde_events&p=17456
END:VEVENT
END:VCALENDAR