BEGIN:VCALENDAR
VERSION:2.0
PRODID:-//eventon.com NONSGML v1.0//EN
BEGIN:VEVENT
UID:69e9331e333c8
DTSTAMP:20260422T204414
DTSTART:20171007T123000Z
DTEND:20171007T235000Z
TZID:UTC
LOCATION:Πολυχώρος Μεταίχμιο Ιπποκράτους 118\,  Τ.Κ. 11472\,  Αθήνα
SUMMARY:Παραμύθι χωρίς όνομα
DESCRIPTION: Οι εκδόσεις ΜΕΤΑΙΧΜΙΟ και η Ομάδα θεάτρου Δον Κιχώτες σας προσκαλούν στη θεατρική διασκευή του έργου της Πηνελόπης Δέλτα ΠΑΡΑΜΥΘΙ ΧΩΡΙΣ ΟΝΟΜΑ το Σάββατο\,  7 Οκτωβρίου 2017\,  στις 12:30 το μεσημέρι\,  στον ΠΟΛΥΧΩΡΟ ΜΕΤΑΙΧΜΙΟ (Ιπποκράτους 118\,  Αθήνα). Υπάρχουν πολλά παραμύθια… Κι έχουν πολλά ονόματα… Ετούτο το παραμύθι όνομα δεν έχει. Όμως\,  είναι το παραμύθι[..]\nhttps://blog.aliceonboard.gr/?post_type=ajde_events&p=17401
URL:https://blog.aliceonboard.gr/?post_type=ajde_events&p=17401
END:VEVENT
END:VCALENDAR