BEGIN:VCALENDAR
VERSION:2.0
PRODID:-//eventon.com NONSGML v1.0//EN
BEGIN:VEVENT
UID:69eb6c2497f83
DTSTAMP:20260424T131204
DTSTART:20170929T203000Z
DTEND:20170929T235000Z
TZID:UTC
LOCATION:Μουσείο Μπενάκη Κουμπάρη 1\,  Αθήνα 106 74
SUMMARY:Οιδίπους Τύραννος
DESCRIPTION: O μύθος του Οιδίποδα εμπνέει τη θεατρική ομάδα «Εμείς\,  Εμείς»\,  που αποτελείται από έξι παιδιά 8 ετών\,  και με την καθοδήγηση-σκηνοθεσία της Αλίκης Δανέζη Knutsen παρουσιάζουν στο αίθριο του Μουσείου Μπενάκη στην Πειραιώς στις 29 Σεπτεμβρίου\,  τον «Οιδίποδα Τύραννο»\,  μια παράσταση από παιδιά…για παιδιά! Τα παιδιά\,  που επέλεξαν τα ίδια[..]\nhttps://blog.aliceonboard.gr/?post_type=ajde_events&p=17378
URL:https://blog.aliceonboard.gr/?post_type=ajde_events&p=17378
END:VEVENT
END:VCALENDAR