BEGIN:VCALENDAR
VERSION:2.0
PRODID:-//eventon.com NONSGML v1.0//EN
BEGIN:VEVENT
UID:69e936af46829
DTSTAMP:20260422T205927
DTSTART:20170311T120000Z
DTEND:20170311T235000Z
TZID:UTC
LOCATION:Βιβλιοπωλείο Ευριπίδης στην Κηφισιά Λεωφ. Κηφισίας 310\,  Κηφισιά\,  14563
SUMMARY:Διαδραστική παρουσίαση του παραμυθιού «Φίλοι στον λόφο»
DESCRIPTION: Το Σάββατο 11 Μαρτίου στις 12 το μεσημέρι\,  οι εκδόσεις Ίκαρος και το βιβλιοπωλείο Ευριπίδης στην Κηφισιά\,  σε συνεργασία με την ομάδαPlayroom δημιουργική απασχόληση για παιδιά (Ιωάννα Γουζέλη\,  Αγγελική Μπόζου)\,  σας προσκαλούν σε μια διαδραστική παρουσίαση του παραμυθιού «Φίλοι στον λόφο» των Linda Sarah & Benji Davies! Ελάτε να διαβάσουμε[..]\nhttps://blog.aliceonboard.gr/?post_type=ajde_events&p=16053
URL:https://blog.aliceonboard.gr/?post_type=ajde_events&p=16053
END:VEVENT
END:VCALENDAR