BEGIN:VCALENDAR
VERSION:2.0
PRODID:-//eventon.com NONSGML v1.0//EN
BEGIN:VEVENT
UID:69e936ae69391
DTSTAMP:20260422T205926
DTSTART:20170312T113000Z
DTEND:20170312T123000Z
TZID:UTC
LOCATION:Μουσείο Κυκλαδικής Τέχνης Νεοφύτου Δούκα 4 \,  Αθήνα\,  106 74
SUMMARY:Η Ανθρώπινη Μορφή
DESCRIPTION: Τι συνέβη  όταν ένας αρχαίος Κυκλαδίτης γλύπτης \,  ανέλαβε μία πολύ δύσκοληπαραγγελία\,  ένας κυνηγός ξεκίνησε για κυνήγι με ένα μόνο βέλος κι ένας πολεμιστής ήθελε μια περικεφαλαία ίδια με του θεού Άρη; Για ποιο λόγο μία νεαρή κοπέλα πρόσφερε τα παιχνίδια της στη θεά Ήρα\,  ένας έμπορος από την Κύπρο[..]\nhttps://blog.aliceonboard.gr/?post_type=ajde_events&p=15991
URL:https://blog.aliceonboard.gr/?post_type=ajde_events&p=15991
END:VEVENT
END:VCALENDAR