BEGIN:VCALENDAR
VERSION:2.0
PRODID:-//eventon.com NONSGML v1.0//EN
BEGIN:VEVENT
UID:69e936af6fc8c
DTSTAMP:20260422T205927
DTSTART:20170311T110000Z
DTEND:20170311T123000Z
TZID:UTC
LOCATION:Μουσείο Κυκλαδικής Τέχνης Νεοφύτου Δούκα 4 \,  Αθήνα\,  106 74
SUMMARY:Momotaro  Σουρεαλισμός*- Abstraction-Création*
DESCRIPTION: Στη μακρινή Άπω Ανατολή ο Μομοτάρο τολμάει και τα βάζει με τα φοβερά και τρομακτικά τέρατα Όνι και γίνεται ήρωας σπουδαίος. Στο εργαστήριο αυτό τα παιδιά θα δουν τους ήρωες του παραμυθιού μέσα από τα γλυπτά του Jean Arp και της Barbara Hepworth. Αφαιρετικές και καμπύλες μορφές θα γίνουν η[..]\nhttps://blog.aliceonboard.gr/?post_type=ajde_events&p=15983
URL:https://blog.aliceonboard.gr/?post_type=ajde_events&p=15983
END:VEVENT
END:VCALENDAR