BEGIN:VCALENDAR
VERSION:2.0
PRODID:-//eventon.com NONSGML v1.0//EN
BEGIN:VEVENT
UID:69eb6c3718776
DTSTAMP:20260424T131223
DTSTART:20170305T113000Z
DTEND:20170305T130000Z
TZID:UTC
LOCATION:Μουσείο Κυκλαδικής Τέχνης Νεοφύτου Δούκα 4 \,  Αθήνα\,  106 74
SUMMARY:Γιατί ο ιπποπόταμος δεν έχει τρίχες; Ίχνη χρωμάτων...
DESCRIPTION: Ήταν κάποτε μια εποχή που ο ιπποπόταμος ήταν το πιο μαλλιαρό ζώο της ζούγκλας και ζεσταινόταν πάρα πολύ. Όλα τα υπόλοιπα ζώα του έκαναν αέρα ή σκιά για να τον δροσίσουν\,  ώσπου μια μέρα…. Από εκείνη τη μέρα μέχρι και σήμερα ο ιπποπόταμος έπαψε να έχει τρίχες και ζει μέσα[..]\nhttps://blog.aliceonboard.gr/?post_type=ajde_events&p=15981
URL:https://blog.aliceonboard.gr/?post_type=ajde_events&p=15981
END:VEVENT
END:VCALENDAR