BEGIN:VCALENDAR
VERSION:2.0
PRODID:-//eventon.com NONSGML v1.0//EN
BEGIN:VEVENT
UID:69e8dd2b16ac2
DTSTAMP:20260422T143731
DTSTART:20170304T120000Z
DTEND:20170304T235000Z
TZID:UTC
LOCATION:Βιβλιοπωλείο ΙΑΝΟΣ Σταδίου 24\,  105 64 Athens\,  Greece
SUMMARY:ΤΙΚ-ΤΑΚ: ΡΟΛΟΓΙΑ\,  ΩΡΑ ΓΙΑ ΜΑΘΗΜΑ!
DESCRIPTION: Το Σάββατο 4 Μαρτίου στις 12:00\,  οι εκδόσεις Ίκαρος και το βιβλιοπωλείο Ιανός παρουσιάζουν το νέο βιβλίο του Αντώνη Παπαθεοδούλου και της Μυρτώς Δεληβοριά Τικ-Τακ: Ρολόγια\,  ώρα για μάθημα ! Ελάτε να διαβάσουμε μαζί μια πρωτότυπη ιστορία για την σημασία του χρόνου και τη σχέση του δασκάλου με τους μαθητές του. Άλλωστε\, [..]\nhttps://blog.aliceonboard.gr/?post_type=ajde_events&p=15977
URL:https://blog.aliceonboard.gr/?post_type=ajde_events&p=15977
END:VEVENT
END:VCALENDAR