BEGIN:VCALENDAR
VERSION:2.0
PRODID:-//eventon.com NONSGML v1.0//EN
BEGIN:VEVENT
UID:69e937774f833
DTSTAMP:20260422T210247
DTSTART:20170114T170000Z
DTEND:20170114T010000Z
TZID:UTC
LOCATION:Θέατρο Πόρτα Μεσογείων 59 11526\,  Αθήνα
SUMMARY:ΕΝΑΣ ΔΡΑΚΟΣ… ΜΑ ΠΟΙΟΣ ΔΡΑΚΟΣ;
DESCRIPTION: Η Ξένια Καλογεροπούλου και ο Θωμάς Μοσχόπουλος διασκευάζουν το «Δράκο» του Γιεβγκένι Σβάρτς Σε μια καστροπολιτεία κάπου μακριά\,  τότε που οι Δράκοι και οι ιππότες ζούσαν ανάμεσα στους ανθρώπους χωρίς αυτό να φαίνεται παράξενο σε κανέναν… ένας Δράκος είχε εγκατασταθεί μόνιμα εδώ και χρόνια. Ήταν χωρίς αμφιβολία αυτός που όριζε[..]\nhttps://blog.aliceonboard.gr/?post_type=ajde_events&p=15493
URL:https://blog.aliceonboard.gr/?post_type=ajde_events&p=15493
END:VEVENT
END:VCALENDAR