BEGIN:VCALENDAR
VERSION:2.0
PRODID:-//eventon.com NONSGML v1.0//EN
BEGIN:VEVENT
UID:69e9367c2205c
DTSTAMP:20260422T205836
DTSTART:20161211T113000Z
DTEND:20161211T010000Z
TZID:UTC
LOCATION:Ίδρυμα Μιχάλης Κακογιάννης Πειραιώς 206\,  Ταύρος\,  177 78 
SUMMARY:Ηρακλής\,  η ζωή και οι άθλοι του
DESCRIPTION: Η Κάρμεν Ρουγγέρη έκανε μια μικρή σφυγμομέτρηση και η αυθόρμητη αντίδραση των παιδιών ανέδειξε τον ημίθεο Ηρακλή\,  τον ήρωα των ηρώων\,  ως το πιο αγαπημένο πρόσωπο της αρχαιότητας. Λαμβάνοντας λοιπόν υπόψιν της την παιδική ετυμηγορία\,  έστησε μια παράσταση για εκείνον. &nbsp; Μέσα απ αυτή την παράσταση τα παιδιά θα έχουν[..]\nhttps://blog.aliceonboard.gr/?post_type=ajde_events&p=15206
URL:https://blog.aliceonboard.gr/?post_type=ajde_events&p=15206
END:VEVENT
END:VCALENDAR