BEGIN:VCALENDAR
VERSION:2.0
PRODID:-//eventon.com NONSGML v1.0//EN
BEGIN:VEVENT
UID:69e9367b20862
DTSTAMP:20260422T205835
DTSTART:20161113T113000Z
DTEND:20161113T130000Z
TZID:UTC
LOCATION:Μουσείο Κυκλαδικής Τέχνης Νεοφύτου Δούκα 4 \,  Αθήνα\,  106 74
SUMMARY:Γιατί ο ελέφαντας έχει προβοσκίδα; Τρισδιάστατα ζώα…
DESCRIPTION: Το Μουσείο Κυκλαδικής Τέχνης δίνει και το Νοέμβριο προτάσεις για τα σαββατοκύριακα των παιδιών 2-12 ετών. Κάθε Σαββατοκύριακο\,  παιδιά και γονείς γνωρίζουν το συναρπαστικό κόσμο του Μουσείου μέσα από παραμύθια\,  διαδραστικές ξεναγήσεις\,  εικαστικά εργαστήρια\,  φωτογραφία και μουσική! Παιδιά 2-3\, 5 ετών Κυριακή 13/11\,  11.30-13.00 Γιατί ο ελέφαντας έχει προβοσκίδα; Τρισδιάστατα ζώα…[..]\nhttps://blog.aliceonboard.gr/?post_type=ajde_events&p=14847
URL:https://blog.aliceonboard.gr/?post_type=ajde_events&p=14847
END:VEVENT
END:VCALENDAR