BEGIN:VCALENDAR
VERSION:2.0
PRODID:-//eventon.com NONSGML v1.0//EN
BEGIN:VEVENT
UID:69e9e80fd8b7c
DTSTAMP:20260423T093615
DTSTART:20161106T110000Z
DTEND:20161106T010000Z
TZID:UTC
LOCATION:Θέατρο Ιλίσια Παπαδιαμαντοπούλου 4\,  Αθήνα \, 11528
SUMMARY:Η Αλίκη στη Χώρα των Θαυμάτων
DESCRIPTION: Οι μαγικές σβούρες παρουσιάζουν στο Θέατρο Ιλίσια την Αλίκη στη Χώρα των Θαυμάτων\,  σε σκηνοθεσία Δημήτρη Αδάμη. Η Αλίκη στη Χώρα των Θαυμάτων (Ή απλές\,  θεότρελες οδηγίες από μια παράξενη παράσταση για το πώς θα φυλάξω την παιδικότητά μου καθώς μεγαλώνω.) Ποια είναι η Αλίκη; Είναι ένα κορίτσι . Είναι[..]\nhttps://blog.aliceonboard.gr/?post_type=ajde_events&p=14699
URL:https://blog.aliceonboard.gr/?post_type=ajde_events&p=14699
END:VEVENT
END:VCALENDAR