BEGIN:VCALENDAR
VERSION:2.0
PRODID:-//eventon.com NONSGML v1.0//EN
BEGIN:VEVENT
UID:69e934b920397
DTSTAMP:20260422T205105
DTSTART:20171001T113000Z
DTEND:20171001T235000Z
TZID:UTC
LOCATION:Θέατρο Φούρνος Μαυρομιχάλη 168\,  Εξάρχεια
SUMMARY:Αγόρι με τα μπλε μαλλιά
DESCRIPTION: Μια παράσταση με πολύ τραγούδι για την αντιμετώπιση των φόβων μας\,  τη διαφορετικότητα και τη δύναμη της φιλίας. Η παράσταση που ταξίδεψε μέχρι το Λονδίνο με δύο sold out παραστάσεις και δέχτηκε δωρεά από το ίδρυμα «Σταύρος Νιάρχος» συνεχίζεται στο θέατρο Φούρνος για 3η χρονιά. Ο Άτρο\,  από το Ατρόμητος\, είναι[..]\nhttps://blog.aliceonboard.gr/?post_type=ajde_events&p=14571
URL:https://blog.aliceonboard.gr/?post_type=ajde_events&p=14571
END:VEVENT
END:VCALENDAR